BEGIN:VCALENDAR
VERSION:2.0
PRODID:-//SC Kirchdorf - ECPv6.15.20//NONSGML v1.0//EN
CALSCALE:GREGORIAN
METHOD:PUBLISH
X-WR-CALNAME:SC Kirchdorf
X-ORIGINAL-URL:https://www.sckirchdorf.de
X-WR-CALDESC:Veranstaltungen für SC Kirchdorf
REFRESH-INTERVAL;VALUE=DURATION:PT1H
X-Robots-Tag:noindex
X-PUBLISHED-TTL:PT1H
BEGIN:VTIMEZONE
TZID:Europe/Berlin
BEGIN:DAYLIGHT
TZOFFSETFROM:+0100
TZOFFSETTO:+0200
TZNAME:CEST
DTSTART:20210328T010000
END:DAYLIGHT
BEGIN:STANDARD
TZOFFSETFROM:+0200
TZOFFSETTO:+0100
TZNAME:CET
DTSTART:20211031T010000
END:STANDARD
BEGIN:DAYLIGHT
TZOFFSETFROM:+0100
TZOFFSETTO:+0200
TZNAME:CEST
DTSTART:20220327T010000
END:DAYLIGHT
BEGIN:STANDARD
TZOFFSETFROM:+0200
TZOFFSETTO:+0100
TZNAME:CET
DTSTART:20221030T010000
END:STANDARD
BEGIN:DAYLIGHT
TZOFFSETFROM:+0100
TZOFFSETTO:+0200
TZNAME:CEST
DTSTART:20230326T010000
END:DAYLIGHT
BEGIN:STANDARD
TZOFFSETFROM:+0200
TZOFFSETTO:+0100
TZNAME:CET
DTSTART:20231029T010000
END:STANDARD
END:VTIMEZONE
BEGIN:VEVENT
DTSTART;TZID=Europe/Berlin:20220528T090000
DTEND;TZID=Europe/Berlin:20220528T090000
DTSTAMP:20260421T140507
CREATED:20220511T093759Z
LAST-MODIFIED:20220511T093825Z
UID:4463-1653728400-1653728400@www.sckirchdorf.de
SUMMARY:Zeltaufbau
DESCRIPTION:
URL:https://www.sckirchdorf.de/event/zeltaufbau/
END:VEVENT
BEGIN:VEVENT
DTSTART;TZID=Europe/Berlin:20220528T180000
DTEND;TZID=Europe/Berlin:20220528T180000
DTSTAMP:20260421T140507
CREATED:20220522T135531Z
LAST-MODIFIED:20220522T135531Z
UID:4475-1653760800-1653760800@www.sckirchdorf.de
SUMMARY:Relegation
DESCRIPTION:
URL:https://www.sckirchdorf.de/event/relegation/
END:VEVENT
END:VCALENDAR