BEGIN:VCALENDAR
VERSION:2.0
PRODID:-//SC Kirchdorf - ECPv6.15.20//NONSGML v1.0//EN
CALSCALE:GREGORIAN
METHOD:PUBLISH
X-ORIGINAL-URL:https://www.sckirchdorf.de
X-WR-CALDESC:Veranstaltungen für SC Kirchdorf
REFRESH-INTERVAL;VALUE=DURATION:PT1H
X-Robots-Tag:noindex
X-PUBLISHED-TTL:PT1H
BEGIN:VTIMEZONE
TZID:Europe/Berlin
BEGIN:DAYLIGHT
TZOFFSETFROM:+0100
TZOFFSETTO:+0200
TZNAME:CEST
DTSTART:20210328T010000
END:DAYLIGHT
BEGIN:STANDARD
TZOFFSETFROM:+0200
TZOFFSETTO:+0100
TZNAME:CET
DTSTART:20211031T010000
END:STANDARD
BEGIN:DAYLIGHT
TZOFFSETFROM:+0100
TZOFFSETTO:+0200
TZNAME:CEST
DTSTART:20220327T010000
END:DAYLIGHT
BEGIN:STANDARD
TZOFFSETFROM:+0200
TZOFFSETTO:+0100
TZNAME:CET
DTSTART:20221030T010000
END:STANDARD
BEGIN:DAYLIGHT
TZOFFSETFROM:+0100
TZOFFSETTO:+0200
TZNAME:CEST
DTSTART:20230326T010000
END:DAYLIGHT
BEGIN:STANDARD
TZOFFSETFROM:+0200
TZOFFSETTO:+0100
TZNAME:CET
DTSTART:20231029T010000
END:STANDARD
END:VTIMEZONE
BEGIN:VEVENT
DTSTART;TZID=Europe/Berlin:20220730T180000
DTEND;TZID=Europe/Berlin:20220730T180000
DTSTAMP:20260421T145831
CREATED:20220625T122854Z
LAST-MODIFIED:20220625T123022Z
UID:4535-1659204000-1659204000@www.sckirchdorf.de
SUMMARY:Schafkopfturnier
DESCRIPTION:
URL:https://www.sckirchdorf.de/event/schafkopfturnier/
END:VEVENT
BEGIN:VEVENT
DTSTART;TZID=Europe/Berlin:20220731T110000
DTEND;TZID=Europe/Berlin:20220731T110000
DTSTAMP:20260421T145831
CREATED:20220502T155806Z
LAST-MODIFIED:20220625T123232Z
UID:4422-1659265200-1659265200@www.sckirchdorf.de
SUMMARY:`s Hirschbachschleiferl 2022
DESCRIPTION:
URL:https://www.sckirchdorf.de/event/s-hirschbachschleiferl-2022/
END:VEVENT
END:VCALENDAR